BEGIN:VCALENDAR
VERSION:2.0
PRODID:-//Huntsville AI - ECPv6.8.3//NONSGML v1.0//EN
CALSCALE:GREGORIAN
METHOD:PUBLISH
X-WR-CALNAME:Huntsville AI
X-ORIGINAL-URL:https://hsv.ai
X-WR-CALDESC:Events for Huntsville AI
REFRESH-INTERVAL;VALUE=DURATION:PT1H
X-Robots-Tag:noindex
X-PUBLISHED-TTL:PT1H
BEGIN:VTIMEZONE
TZID:America/Chicago
BEGIN:DAYLIGHT
TZOFFSETFROM:-0600
TZOFFSETTO:-0500
TZNAME:CDT
DTSTART:20240310T080000
END:DAYLIGHT
BEGIN:STANDARD
TZOFFSETFROM:-0500
TZOFFSETTO:-0600
TZNAME:CST
DTSTART:20241103T070000
END:STANDARD
END:VTIMEZONE
BEGIN:VEVENT
DTSTART;TZID=America/Chicago:20240515T180000
DTEND;TZID=America/Chicago:20240515T190000
DTSTAMP:20260419T130544
CREATED:20240505T033848Z
LAST-MODIFIED:20240513T035034Z
UID:1644-1715796000-1715799600@hsv.ai
SUMMARY:OpenAI API
DESCRIPTION:This week we will cover the use of the OpenAI API with both llama-cpp-python and OpenAI itself. After this session\, you will have a solid understanding of how to use the chat completion API along with an approach to run the same code locally against llama-cpp-python. \nWe will cover account setup\, billing & budgets\, as well as the python code needed to make function calls. Next we will show the same python code running against a locally hosted model. \nUpdates: \n\nThe videos page at https://hsv.ai/videos/ is updated through our last meetup\, so if you want to catch up on previous sessions – give that a shot.\nThe meetups through the summer months are all planned – check the schedule toward the end of this email\, as well as https://hsv.ai/calendar/\n\n\n\n\n\n\n\n\n\n\n\n\n\n\n\n\n\nSeries: \nOver the next several sessions\, we will be diving deeper into separate components needed for RAG – hopefully resulting in a chat-based Q&A service for the NASA Technical Report Server.  We were introduced to this data during our submission for the 2022 NASA SpaceApps Challenge – where we placed 2nd. Our submission was a semantic search based on the abstracts for the NSTR dataset of 10\,000 papers. \nLinks: \n\nhttps://platform.openai.com/docs/api-reference\nhttps://github.com/abetlen/llama-cpp-python\nhttps://llama-cpp-python.readthedocs.io/en/latest/\nHuntsville AI 2022 SpaceApps Submission – https://github.com/HSV-AI/spaceapps2022\n\n\nDetails: \n\nDate – 05/15/2024\nTime – 6-7pm\nLocation – HudsonAlpha\nAddress –  601 Genome Way Northwest\, Huntsville\, AL 35806\nZoom –https://us02web.zoom.us/j/81984208192?pwd=VkYySnpjQ0hOblB2bEt3c1JlMXdBdz09
URL:https://hsv.ai/event/openai-api/
LOCATION:HudsonAlpha\, 601 Genome Way Northwest\, Huntsville\, AL\, 35806
END:VEVENT
END:VCALENDAR