BEGIN:VCALENDAR
VERSION:2.0
PRODID:-//Huntsville AI - ECPv6.8.3//NONSGML v1.0//EN
CALSCALE:GREGORIAN
METHOD:PUBLISH
X-WR-CALNAME:Huntsville AI
X-ORIGINAL-URL:https://hsv.ai
X-WR-CALDESC:Events for Huntsville AI
REFRESH-INTERVAL;VALUE=DURATION:PT1H
X-Robots-Tag:noindex
X-PUBLISHED-TTL:PT1H
BEGIN:VTIMEZONE
TZID:America/Chicago
BEGIN:DAYLIGHT
TZOFFSETFROM:-0600
TZOFFSETTO:-0500
TZNAME:CDT
DTSTART:20240310T080000
END:DAYLIGHT
BEGIN:STANDARD
TZOFFSETFROM:-0500
TZOFFSETTO:-0600
TZNAME:CST
DTSTART:20241103T070000
END:STANDARD
END:VTIMEZONE
BEGIN:VEVENT
DTSTART;TZID=America/Chicago:20241218T180000
DTEND;TZID=America/Chicago:20241218T190000
DTSTAMP:20260419T093556
CREATED:20241030T031438Z
LAST-MODIFIED:20241216T153222Z
UID:1774-1734544800-1734548400@hsv.ai
SUMMARY:2024 Year in Review
DESCRIPTION:We made it through 2024! Well\, close enough for this group anyway 🙂 This week we will get together and go through the list of topics and other items that we covered over the year. There are 3 questions that I want to ask for each topic: \n\nDid it stick\, or was it overcome by other technology or approaches?\nWhat is the “shelf life” of the topic?\nWhat direction is the topic headed? Advancing\, decay\, community interest?\n\nIn addition to the review of 2024\, we also have Paul Bay coming to talk about what he has been doing with AI Agents. Based on what I am reading\, Agentic AI could be the next popular movement in the field. \nWe’ll end the session by talking about plans for 2025. The kickoff is scheduled for January 8th. I have placeholders for other meetups & associated events on the calendar through February if you want to take a look here: https://hsv.ai/calendar/\n\n\n\n\n\n\n\n\n\n\n\n\n\n\n\nLinks & Other Events: \n\n2024 AI Symposium Recorded Sessions – https://www.youtube.com/playlist?list=PLvvHQqQynqmtkQuLsvfFtmy0OohBcA5H4\n2025 AI Symposium – https://www.rocketcenter.com/institute \n2025 HATCH – https://hudsonalpha.org/techchallenge/\n\n\nDetails: \n\nDate – 12/18/2024\nTime – 6-7:30pm\nZoom –https://us02web.zoom.us/j/83751396321?pwd=ZdQYvlGBEn2vcr5Bmb9XjrPrQhJhAa.1
URL:https://hsv.ai/event/2024-year-in-review/
LOCATION:HudsonAlpha\, 601 Genome Way Northwest\, Huntsville\, AL\, 35806
ATTACH;FMTTYPE=image/png:https://hsv.ai/wp-content/uploads/2024/10/2024-Review-Agents.png
END:VEVENT
END:VCALENDAR