BEGIN:VCALENDAR
VERSION:2.0
PRODID:-//Huntsville AI - ECPv6.8.3//NONSGML v1.0//EN
CALSCALE:GREGORIAN
METHOD:PUBLISH
X-ORIGINAL-URL:https://hsv.ai
X-WR-CALDESC:Events for Huntsville AI
REFRESH-INTERVAL;VALUE=DURATION:PT1H
X-Robots-Tag:noindex
X-PUBLISHED-TTL:PT1H
BEGIN:VTIMEZONE
TZID:America/Chicago
BEGIN:DAYLIGHT
TZOFFSETFROM:-0600
TZOFFSETTO:-0500
TZNAME:CDT
DTSTART:20250309T080000
END:DAYLIGHT
BEGIN:STANDARD
TZOFFSETFROM:-0500
TZOFFSETTO:-0600
TZNAME:CST
DTSTART:20251102T070000
END:STANDARD
END:VTIMEZONE
BEGIN:VEVENT
DTSTART;TZID=America/Chicago:20250122T180000
DTEND;TZID=America/Chicago:20250122T190000
DTSTAMP:20260420T003045
CREATED:20241216T010345Z
LAST-MODIFIED:20250120T042451Z
UID:1800-1737568800-1737572400@hsv.ai
SUMMARY:AI for Code Development
DESCRIPTION:It has certainly been a busy few weeks! The first session for LearningQuest (slides linked below) had about 150 people in attendance and went very well. I had several great questions come up that I will have to research before the next session on Thursday. \nWe don’t know exactly what the weather will do this week as far as closures. We have the big conference room at HudsonAlpha reserved\, but please check for further updates before coming in person in case we switch to a virtual only meetup for this week. \nThe main subject of the night will be AI for code development. We looked at this some time in the past with the StarCoder model\, but there are many options available now. Some are free (and limited)\, while others are inexpensive. We will try to cover Copilot\, Cursor\, and a self hosted option. Please let me know if you have experience/opinions on these and we can get that in the discussion as well! \nThere is also an NVIDIA meetup at Torch earlier on Wednesday. I believe that several of us might be able to make it\, so we should be able to share any info we pick up. I’ll drop a link to their signup in case you want to go. \nLinks & Other Events: \n\nIntroduction to AI Slides – https://github.com/HSV-AI/presentations/blob/master/2025/250116_Introduction_to_AI_LearningQuest.pdf\nNVIDIA Meetup at Torch – https://torchtechnologies.surveymonkey.com/r/CSHQHBQ\n2025 AI Symposium – https://www.rocketcenter.com/institute \n2025 HATCH – https://hudsonalpha.org/techchallenge/\n2025 BSides – https://nac-issa.org/events/bsides/\n\nDetails: \n\nDate – 1/22/2025\nTime – 6-7:30pm\nLocation – HudsonAlpha\nAddress –  601 Genome Way Northwest\, Huntsville\, AL 35806\nZoom –https://us02web.zoom.us/j/89635091670?pwd=FFO9xzQrA3cl2fXxGYWXuPenLQIUcU.1
URL:https://hsv.ai/event/ai-for-code-dev/
LOCATION:HudsonAlpha\, 601 Genome Way Northwest\, Huntsville\, AL\, 35806
ATTACH;FMTTYPE=image/png:https://hsv.ai/wp-content/uploads/2024/12/AI-for-Code-Development.png
END:VEVENT
END:VCALENDAR