BEGIN:VCALENDAR
VERSION:2.0
PRODID:-//Huntsville AI - ECPv6.8.3//NONSGML v1.0//EN
CALSCALE:GREGORIAN
METHOD:PUBLISH
X-ORIGINAL-URL:https://hsv.ai
X-WR-CALDESC:Events for Huntsville AI
REFRESH-INTERVAL;VALUE=DURATION:PT1H
X-Robots-Tag:noindex
X-PUBLISHED-TTL:PT1H
BEGIN:VTIMEZONE
TZID:America/Chicago
BEGIN:DAYLIGHT
TZOFFSETFROM:-0600
TZOFFSETTO:-0500
TZNAME:CDT
DTSTART:20250309T080000
END:DAYLIGHT
BEGIN:STANDARD
TZOFFSETFROM:-0500
TZOFFSETTO:-0600
TZNAME:CST
DTSTART:20251102T070000
END:STANDARD
END:VTIMEZONE
BEGIN:VEVENT
DTSTART;TZID=America/Chicago:20250123T130000
DTEND;TZID=America/Chicago:20250123T143000
DTSTAMP:20260420T003813
CREATED:20241216T011814Z
LAST-MODIFIED:20241216T011814Z
UID:1808-1737637200-1737642600@hsv.ai
SUMMARY:Intro to AI @ LearningQuest
DESCRIPTION:
URL:https://hsv.ai/event/intro-to-ai-learningquest-2/
LOCATION:Huntsville Madison County Library\, 915 Monroe St\, Huntsville\, AL\, 35801\, United States
ATTACH;FMTTYPE=image/png:https://hsv.ai/wp-content/uploads/2024/12/LearningQuest.png
END:VEVENT
END:VCALENDAR