BEGIN:VCALENDAR
VERSION:2.0
PRODID:-//Huntsville AI - ECPv6.8.3//NONSGML v1.0//EN
CALSCALE:GREGORIAN
METHOD:PUBLISH
X-ORIGINAL-URL:https://hsv.ai
X-WR-CALDESC:Events for Huntsville AI
REFRESH-INTERVAL;VALUE=DURATION:PT1H
X-Robots-Tag:noindex
X-PUBLISHED-TTL:PT1H
BEGIN:VTIMEZONE
TZID:America/Chicago
BEGIN:DAYLIGHT
TZOFFSETFROM:-0600
TZOFFSETTO:-0500
TZNAME:CDT
DTSTART:20250309T080000
END:DAYLIGHT
BEGIN:STANDARD
TZOFFSETFROM:-0500
TZOFFSETTO:-0600
TZNAME:CST
DTSTART:20251102T070000
END:STANDARD
END:VTIMEZONE
BEGIN:VEVENT
DTSTART;TZID=America/Chicago:20250128T000000
DTEND;TZID=America/Chicago:20250130T235959
DTSTAMP:20260422T054100
CREATED:20241216T012353Z
LAST-MODIFIED:20241216T012353Z
UID:1812-1738022400-1738281599@hsv.ai
SUMMARY:2025 AI Symposium: Automation Vs HITL
DESCRIPTION:
URL:https://hsv.ai/event/2025-ai-symposium-automation-vs-hitl/
LOCATION:Space & Rocket Center\, 1 Tranquility Base\, Huntsville\, AL\, 35805\, United States
ATTACH;FMTTYPE=image/jpeg:https://hsv.ai/wp-content/uploads/2024/12/SRC-AI-Symposium.jpg
END:VEVENT
END:VCALENDAR