BEGIN:VCALENDAR
VERSION:2.0
PRODID:-//Huntsville AI - ECPv6.8.3//NONSGML v1.0//EN
CALSCALE:GREGORIAN
METHOD:PUBLISH
X-WR-CALNAME:Huntsville AI
X-ORIGINAL-URL:https://hsv.ai
X-WR-CALDESC:Events for Huntsville AI
REFRESH-INTERVAL;VALUE=DURATION:PT1H
X-Robots-Tag:noindex
X-PUBLISHED-TTL:PT1H
BEGIN:VTIMEZONE
TZID:America/Chicago
BEGIN:DAYLIGHT
TZOFFSETFROM:-0600
TZOFFSETTO:-0500
TZNAME:CDT
DTSTART:20250309T080000
END:DAYLIGHT
BEGIN:STANDARD
TZOFFSETFROM:-0500
TZOFFSETTO:-0600
TZNAME:CST
DTSTART:20251102T070000
END:STANDARD
END:VTIMEZONE
BEGIN:VEVENT
DTSTART;TZID=America/Chicago:20250618T180000
DTEND;TZID=America/Chicago:20250618T193000
DTSTAMP:20260425T105642
CREATED:20250514T235821Z
LAST-MODIFIED:20250612T175536Z
UID:1952-1750269600-1750275000@hsv.ai
SUMMARY:Virtual Paper Review – Zero Trust for AI Agents
DESCRIPTION:Join us virtually this Wednesday at 6pm to continue our monthly Paper Review series! This month\, we’re diving into the critical topic of identity management for autonomous AI systems by reviewing the recent paper\, “A Novel Zero-Trust Identity Framework for Agentic AI: Decentralized Authentication and Fine-Grained Access Control.” \nAs AI agents become more autonomous\, traditional IAM solutions are proving insufficient. This session will explore a new architectural paradigm that fuses two powerful identity models\, workload identity and decentralized identity\, to create a robust\, verifiable\, and secure foundation for agent operations. \nOur discussion will follow a two-part format. In the first half\, we will cover the foundational concepts necessary to understand the paper’s contributions: \n\nWorkload Identity: The core principles of identifying software services using SPIFFE/SPIRE.\nDecentralized Identity: An introduction to Decentralized Identifiers (DIDs) and Verifiable Credentials (VCs) for portable\, logical identity.\nBridging Technologies: The role of OAuth 2.0 Token Exchange (RFC 8693) for delegation and Open Policy Agent (OPA) for fine-grained authorization.\n\nThe second half will be a deep dive into the paper itself\, analyzing its proposed framework and innovations: \n\nThe layered architecture for unifying workload and logical agent identities.\nDetailed review of the authentication and authorization flows\, particularly for human-to-agent delegation.\nStrategies for managing short-lived credentials and keys in dynamic environments.\nImplications for securing agents in complex\, non-Kubernetes deployments (e.g.\, Docker Compose\, systemd).\n\n\nThis session is ideal for security architects\, AI/ML engineers\, and practitioners interested in the next generation of secure infrastructure for artificial intelligence. \n\n\n\n\n\n\n\n\n\n\n\n\n\n\n\n\n\n\n\n\n\n\n\n\n\n\n\n\n\n\n\nLinks: \n\nMain Paper: A Novel Zero-Trust Identity Framework for Agentic AI: https://arxiv.org/abs/2505.19301\nSPIFFE: https://spiffe.io/\nW3C Decentralized Identifiers (DIDs): https://www.w3.org/TR/did-core/\nW3C Verifiable Credentials (VCs): https://www.w3.org/TR/vc-data-model/\nOAuth 2.0 Token Exchange: https://www.rfc-editor.org/rfc/rfc8693\n\nDetails: \n\nDate – 6/18/2025\nTime – 6-7:30pm\nLocation – VIRTUAL\nZoom –https://us02web.zoom.us/j/86865023053?pwd=CNErK8uoiWo0m49hiWVb0WIZC14tJs.1
URL:https://hsv.ai/event/zero-trust-for-ai-agents/
ATTACH;FMTTYPE=image/png:https://hsv.ai/wp-content/uploads/2025/05/Zero-Trust-for-AI-Agents.png
END:VEVENT
END:VCALENDAR