BEGIN:VCALENDAR
VERSION:2.0
PRODID:-//Huntsville AI - ECPv6.8.3//NONSGML v1.0//EN
CALSCALE:GREGORIAN
METHOD:PUBLISH
X-ORIGINAL-URL:https://hsv.ai
X-WR-CALDESC:Events for Huntsville AI
REFRESH-INTERVAL;VALUE=DURATION:PT1H
X-Robots-Tag:noindex
X-PUBLISHED-TTL:PT1H
BEGIN:VTIMEZONE
TZID:America/Chicago
BEGIN:DAYLIGHT
TZOFFSETFROM:-0600
TZOFFSETTO:-0500
TZNAME:CDT
DTSTART:20250309T080000
END:DAYLIGHT
BEGIN:STANDARD
TZOFFSETFROM:-0500
TZOFFSETTO:-0600
TZNAME:CST
DTSTART:20251102T070000
END:STANDARD
END:VTIMEZONE
BEGIN:VEVENT
DTSTART;TZID=America/Chicago:20250625T180000
DTEND;TZID=America/Chicago:20250625T193000
DTSTAMP:20260425T105634
CREATED:20250512T032341Z
LAST-MODIFIED:20250621T032559Z
UID:1946-1750874400-1750879800@hsv.ai
SUMMARY:NVIDIA AI Certification Exams
DESCRIPTION:This week we’ll have Tom Plunkett as our guest speaker! His talk will describe how to study for NVIDIA’s AI certification exams. Specifically\, the NVIDIA-Certified Associate: Generative AI and LLMs\, Multimodal Generative AI\, and AI Infrastructure and Operations. You’ll find a link to these below. \nFrom NVIDIA: “Whether you’re a seasoned professional or just starting your journey in the industry\, certification is a valuable way to advance your career. Certifications serve as tangible evidence of your expertise\, proficiency\, and commitment to continuous learning.”\nBio: Thomas Plunkett recently passed seven AI certification exams: 3 NVIDIA exams\, 3 Oracle exams\, and 1 vendor-neutral exam. He is a consultant for Oracle\, where he focuses on AI and other emerging technologies.  He is a published author on AI\, Big Data\, Blockchain\, and other technologies.  He has taught  graduate-level computer science courses for Virginia Tech and Harrisburg University.  He is a member of the patent bar and has filed patents on AI inventions for Xerox’s Palo Alto Research Center\, Oracle\, and other organizations.\n\n\n\n\n\n\n\n\n\n\n\n\n\n\n\n\n\n\n\n\n\n\n\n\n\n\n\n\n\n\nLinks & Other Resources: \n\nGenerative AI LLMs –\nhttps://www.nvidia.com/en-us/learn/certification/generative-ai-llm-associate/\nMultimodal Generative AI – https://www.nvidia.com/en-us/learn/certification/generative-ai-multimodal-associate/\nAI Infrastructure and Operations – https://www.nvidia.com/en-us/learn/certification/ai-infrastructure-operations-associate/\n\nDetails: \n\nDate – 6/25/2025\nTime – 6:00 – 7:30 pm\nLocation – HudsonAlpha\nAddress – 601 Genome Way Northwest\, Huntsville\, AL 35806\nZoom – https://us02web.zoom.us/j/85498016523?pwd=rj34zsZaC44iB8xtlrmWYEvttAeL9n.1
URL:https://hsv.ai/event/nvidia-ai-certification-exams/
LOCATION:HudsonAlpha\, 601 Genome Way Northwest\, Huntsville\, AL\, 35806
ATTACH;FMTTYPE=image/png:https://hsv.ai/wp-content/uploads/2025/05/NVIDIA-AI-certification-exams.png
END:VEVENT
END:VCALENDAR