BEGIN:VCALENDAR
VERSION:2.0
PRODID:-//Huntsville AI - ECPv6.8.3//NONSGML v1.0//EN
CALSCALE:GREGORIAN
METHOD:PUBLISH
X-WR-CALNAME:Huntsville AI
X-ORIGINAL-URL:https://hsv.ai
X-WR-CALDESC:Events for Huntsville AI
REFRESH-INTERVAL;VALUE=DURATION:PT1H
X-Robots-Tag:noindex
X-PUBLISHED-TTL:PT1H
BEGIN:VTIMEZONE
TZID:America/Chicago
BEGIN:DAYLIGHT
TZOFFSETFROM:-0600
TZOFFSETTO:-0500
TZNAME:CDT
DTSTART:20260308T080000
END:DAYLIGHT
BEGIN:STANDARD
TZOFFSETFROM:-0500
TZOFFSETTO:-0600
TZNAME:CST
DTSTART:20261101T070000
END:STANDARD
END:VTIMEZONE
BEGIN:VEVENT
DTSTART;TZID=America/Chicago:20260422T180000
DTEND;TZID=America/Chicago:20260422T193000
DTSTAMP:20260421T121424
CREATED:20260330T165444Z
LAST-MODIFIED:20260420T163809Z
UID:2174-1776880800-1776886200@hsv.ai
SUMMARY:NVIDIA GTC and Hackathon Approach
DESCRIPTION:This week we have Tom Plunkett reviewing his recent experience at the NVIDIA GPU Technology Conference and winning the associated hackathon. We will be in the Executive Conference Room this week. \nHere’s the breakdown of what Tom plans to cover: \n\nWhat I saw at the NVIDIA GTC conference in San Jose March 16-19.\nCompeting and Winning the GTC Hack to Create Hackathon with vibe coding\, DGX GB10\, OpenClaw\, and other technologies.\nCreating a first draft of a patent application using Gemini Pro 3.1 Preview and other AI technologies.\nA high level examination of Databricks AI/ML Strategy\n\n\nPrevious Meetups: \nI finally got the recordings posted from our last two meetups: \n\nGemma-4 and TurboQuant – https://hsv.ai/2026/04/15/gemma-4-turboquant/\nAlphaFold 3 – https://hsv.ai/2026/03/25/alphafold-3/\n\nI didn’t get the video started for AlphaFold at the very beginning\, so it picks up about 5 minutes into the presentation from Alexa.\n\n\n\n\n\n\n\n\n\n\n\n\n\n\n\n\n\n\n\n\n\n\n\n\n\n\n\n\n\n\nLinks: \n\nhttps://www.nvidia.com/gtc/ – many of the sessions are available to watch\n\nDetails: \n\nDate – 04/22/2026\nTime – 6:00 – 7:30 pm\nLocation – HudsonAlpha – Executive Conference Room\nAddress – 601 Genome Way Northwest\, Huntsville\, AL 35806\nGoogle Meet – https://meet.google.com/gsv-zhtr-yah
URL:https://hsv.ai/event/nvidia-gtc-and-hackathon-approach/
LOCATION:HudsonAlpha\, 601 Genome Way Northwest\, Huntsville\, AL\, 35806
ATTACH;FMTTYPE=image/png:https://hsv.ai/wp-content/uploads/2026/03/Gemini_Generated_Image_b7fm0sb7fm0sb7fm.png
END:VEVENT
END:VCALENDAR